BEGIN:VCALENDAR
VERSION:2.0
PRODID:-//ULScout24 Events//ulscout24.de//
METHOD:PUBLISH
BEGIN:VEVENT
SUMMARY:UL-Treffen mit Messecharakter in Eggenfelden Flugplatz EDME
DTSTART;VALUE=DATE:20260606
DTEND;VALUE=DATE:20260608
UID:event-50@ulscout24.de
DESCRIPTION:UL-Treffen 2026\nmit Messecharakter\n\nCa 20 Aussteller aus ve
 rsch. Bereichen\nTop bekannte Marken wie Blackwing JMB und viele mehr\n120
 kg Maschinen\, Elektroflugzeuge\, Gyrocopter\nGemütliches Beisammensein\,
  Fachsimpeln und Spaß haben\n\nNähere Infos unter www.dgfc.de\nAnmeldung
 en für Aussteller unter verena(at)dgfc.de\n\nInteressierte Aussteller kö
 nnen sich gerne melden!\nVeranstalter: DGFC Rottal Inn e.V.
LOCATION:Flugplatz Eggenfelden\, Zainach\, 84307 Eggenfelden
URL:https://ulscout24.de/events/ul-treffen-mit-messecharakter-in-eggenfeld
 en-flugplatz-edme
END:VEVENT
END:VCALENDAR
