BEGIN:VCALENDAR
VERSION:2.0
PRODID:-//ULScout24 Events//ulscout24.de//
METHOD:PUBLISH
BEGIN:VEVENT
SUMMARY:BRUSTEM FLY-IN
DTSTART;VALUE=DATE:20260815
DTEND;VALUE=DATE:20260817
UID:event-51@ulscout24.de
DESCRIPTION:BBQ & Aviation Party am Samstag\n\nSnacks und Getränke\nKinde
 ranimation\nFreier Zugang und Parkplatz\nInitiationsflüge\n\nWebsite: htt
 ps://droneport.eu
LOCATION:EBST Sint-Truiden\, Lichtenberglaan 1090\, 3800 Sint-Truiden
URL:https://ulscout24.de/events/brustem-fly-in
END:VEVENT
END:VCALENDAR
