BEGIN:VCALENDAR
VERSION:2.0
PRODID:-//ULScout24 Events//ulscout24.de//
METHOD:PUBLISH
BEGIN:VEVENT
SUMMARY:1. Burger Fly-In auf dem Flugplatz in Burg (EDBG)
DTSTART;VALUE=DATE:20260829
DTEND;VALUE=DATE:20260830
UID:event-49@ulscout24.de
DESCRIPTION:SEID DABEI - bei unserem 1. Fly-In auf dem Flugplatz in Burg. 
 \nWir haben einen spannenden Tag\, mit verschiedenen Attraktionen für euc
 h geplant.\n\nWir freuen uns auf euch.\nVeranstalter: Madeleine Meier
LOCATION:Flugplatz Burg bei Magdeburg\, 39288 Burg
URL:https://ulscout24.de/events/1-burger-fly-in-auf-dem-flugplatz-in-burg-
 edbg
END:VEVENT
END:VCALENDAR
